BEGIN:VCALENDAR
VERSION:2.0
PRODID:-//Parrish Academy - ECPv6.13.1//NONSGML v1.0//EN
CALSCALE:GREGORIAN
METHOD:PUBLISH
X-WR-CALNAME:Parrish Academy
X-ORIGINAL-URL:https://parrishacademy.org
X-WR-CALDESC:Events for Parrish Academy
REFRESH-INTERVAL;VALUE=DURATION:PT1H
X-Robots-Tag:noindex
X-PUBLISHED-TTL:PT1H
BEGIN:VTIMEZONE
TZID:America/Detroit
BEGIN:DAYLIGHT
TZOFFSETFROM:-0500
TZOFFSETTO:-0400
TZNAME:EDT
DTSTART:20250309T070000
END:DAYLIGHT
BEGIN:STANDARD
TZOFFSETFROM:-0400
TZOFFSETTO:-0500
TZNAME:EST
DTSTART:20251102T060000
END:STANDARD
END:VTIMEZONE
BEGIN:VEVENT
DTSTART;TZID=America/Detroit:20250915T173000
DTEND;TZID=America/Detroit:20251003T213000
DTSTAMP:20260419T110700
CREATED:20250515T132048Z
LAST-MODIFIED:20250830T131852Z
UID:10000202-1757957400-1759527000@parrishacademy.org
SUMMARY:CNA Online Evening Class 0098
DESCRIPTION:This Certified Nursing Assistant online training course will prepare you for the state certification exam and to start a career in healthcare. This class is a three week online-evening hybrid course that consists of asynchronous online learning and in-person lab and clinical training during the evening. The course includes: Lectures\, digital content\, online learning\, lab training\, clinical training at a nursing care facility and state exam preparation. The price includes books & fees. \n\n					Online students: You are required to attend in-person class on your first day and for all in-person trainings. Your tentative in-person schedule is shown below and is subject to change. You will receive detailed information about your in-person schedule in class. You may contact us for any questions. \n\n\n \n\n\nWeek\nDay\nTime\nIn-Person Work\n\n\n\n\nWeek 1\nMonday\, September 15\, 2025\n5:30pm – 9:30pm\nOrientation & Skills Training\n\n\nWednesday\, September 17\, 2025\n5:30pm – 9:30pm\nSkills Training\n\n\nThursday\, September 18\, 2025\n5:30pm – 9:30pm\nSkills Training\n\n\nWeek 2\nTuesday\, September 23\, 2025\n3pm – 11pm\nClinical Training\n\n\nWednesday\, September 24\, 2025\n3pm – 11pm\nClinical Training\n\n\nWeek 3\nMonday\, September 29\, 2025\n5:30pm – 9:30pm\nSkills Training\n\n\nWednesday\, October 1\, 2025\n5:30pm – 9:30pm\nSkills Training\n\n\nThursday\, October 2\, 2025\n5:30pm – 9:30pm\nSkills Training & Review
URL:https://parrishacademy.org/calendar/cna-online-evening-class-0098/
LOCATION:Parrish Academy\, 24293 Telegraph Rd\, Suite 130\, Southfield\, MI\, 48033\, United States
CATEGORIES:Online Course
ATTACH;FMTTYPE=image/jpeg:https://parrishacademy.org/wp-content/uploads/2021/02/cna-training-04.jpg
END:VEVENT
BEGIN:VEVENT
DTSTART;TZID=America/Detroit:20250929T090000
DTEND;TZID=America/Detroit:20251010T163000
DTSTAMP:20260419T110700
CREATED:20250515T132048Z
LAST-MODIFIED:20250916T232214Z
UID:10000203-1759136400-1760113800@parrishacademy.org
SUMMARY:CNA Training Class 0099
DESCRIPTION:This Certified Nursing Assistant training course will prepare you for the state certification exam and to start a career in healthcare. This class is a two week in-person course that meets Monday – Friday during business hours. The course content includes: Lectures\, classroom instruction\, online learning\, lab training\, clinical training at a nursing care facility and state exam preparation. The price includes books & fees.
URL:https://parrishacademy.org/calendar/cna-training-class-0099/
LOCATION:Parrish Academy\, 24293 Telegraph Rd\, Suite 130\, Southfield\, MI\, 48033\, United States
CATEGORIES:Course
ATTACH;FMTTYPE=image/jpeg:https://parrishacademy.org/wp-content/uploads/2021/02/cna-training-05.jpg
END:VEVENT
BEGIN:VEVENT
DTSTART;TZID=America/Detroit:20251013T090000
DTEND;TZID=America/Detroit:20251024T163000
DTSTAMP:20260419T110700
CREATED:20250830T132200Z
LAST-MODIFIED:20250830T132200Z
UID:10000204-1760346000-1761323400@parrishacademy.org
SUMMARY:CNA Training Class 0100
DESCRIPTION:This Certified Nursing Assistant training course will prepare you for the state certification exam and to start a career in healthcare. This class is a two week in-person course that meets Monday – Friday during business hours. The course content includes: Lectures\, classroom instruction\, online learning\, lab training\, clinical training at a nursing care facility and state exam preparation. The price includes books & fees.
URL:https://parrishacademy.org/calendar/cna-training-class-0100/
LOCATION:Parrish Academy\, 24293 Telegraph Rd\, Suite 130\, Southfield\, MI\, 48033\, United States
CATEGORIES:Course
ATTACH;FMTTYPE=image/jpeg:https://parrishacademy.org/wp-content/uploads/2021/02/cna-training-06.jpg
END:VEVENT
BEGIN:VEVENT
DTSTART;TZID=America/Detroit:20251027T173000
DTEND;TZID=America/Detroit:20251114T213000
DTSTAMP:20260419T110700
CREATED:20250830T132200Z
LAST-MODIFIED:20250830T132200Z
UID:10000205-1761586200-1763155800@parrishacademy.org
SUMMARY:CNA Online Evening Class 0101
DESCRIPTION:This Certified Nursing Assistant online training course will prepare you for the state certification exam and to start a career in healthcare. This class is a three week online-evening hybrid course that consists of asynchronous online learning and in-person lab and clinical training during the evening. The course includes: Lectures\, digital content\, online learning\, lab training\, clinical training at a nursing care facility and state exam preparation. The price includes books & fees. \n\n					Online students: You are required to attend in-person class on your first day and for all in-person trainings. Your tentative in-person schedule is shown below and is subject to change. You will receive detailed information about your in-person schedule in class. You may contact us for any questions. \n\n\n \n\n\nWeek\nDay\nTime\nIn-Person Work\n\n\n\n\nWeek 1\nMonday\, October 27\, 2025\n5:30pm – 9:30pm\nOrientation & Skills Training\n\n\nWednesday\, October 29\, 2025\n5:30pm – 9:30pm\nSkills Training\n\n\nThursday\, October 30\, 2025\n5:30pm – 9:30pm\nSkills Training\n\n\nWeek 2\nTuesday\, November 4\, 2025\n3pm – 11pm\nClinical Training\n\n\nWednesday\, November 5\, 2025\n3pm – 11pm\nClinical Training\n\n\nWeek 3\nMonday\, November 10\, 2025\n5:30pm – 9:30pm\nSkills Training\n\n\nWednesday\, November 12\, 2025\n5:30pm – 9:30pm\nSkills Training\n\n\nThursday\, November 13\, 2025\n5:30pm – 9:30pm\nSkills Training & Review
URL:https://parrishacademy.org/calendar/cna-online-evening-class-0101/
LOCATION:Parrish Academy\, 24293 Telegraph Rd\, Suite 130\, Southfield\, MI\, 48033\, United States
CATEGORIES:Online Course
ATTACH;FMTTYPE=image/jpeg:https://parrishacademy.org/wp-content/uploads/2021/02/cna-training-07.jpg
END:VEVENT
END:VCALENDAR