BEGIN:VCALENDAR
VERSION:2.0
PRODID:-//Parrish Academy - ECPv6.13.1//NONSGML v1.0//EN
CALSCALE:GREGORIAN
METHOD:PUBLISH
X-ORIGINAL-URL:https://parrishacademy.org
X-WR-CALDESC:Events for Parrish Academy
REFRESH-INTERVAL;VALUE=DURATION:PT1H
X-Robots-Tag:noindex
X-PUBLISHED-TTL:PT1H
BEGIN:VTIMEZONE
TZID:America/Detroit
BEGIN:DAYLIGHT
TZOFFSETFROM:-0500
TZOFFSETTO:-0400
TZNAME:EDT
DTSTART:20250309T070000
END:DAYLIGHT
BEGIN:STANDARD
TZOFFSETFROM:-0400
TZOFFSETTO:-0500
TZNAME:EST
DTSTART:20251102T060000
END:STANDARD
END:VTIMEZONE
BEGIN:VEVENT
DTSTART;TZID=America/Detroit:20250428T090000
DTEND;TZID=America/Detroit:20250509T163000
DTSTAMP:20260419T130510
CREATED:20250305T014023Z
LAST-MODIFIED:20250426T004737Z
UID:10000193-1745830800-1746808200@parrishacademy.org
SUMMARY:CNA Training Class 0089
DESCRIPTION:This Certified Nursing Assistant training course will prepare you for the state certification exam and to start a career in healthcare. This class is a two week in-person course that meets Monday – Friday during business hours. The course content includes: Lectures\, classroom instruction\, online learning\, lab training\, clinical training at a nursing care facility and state exam preparation. The price includes books & fees.
URL:https://parrishacademy.org/calendar/cna-training-class-0089/
LOCATION:Parrish Academy\, 24293 Telegraph Rd\, Suite 130\, Southfield\, MI\, 48033\, United States
CATEGORIES:Course
ATTACH;FMTTYPE=image/jpeg:https://parrishacademy.org/wp-content/uploads/2021/02/cna-training-05.jpg
END:VEVENT
BEGIN:VEVENT
DTSTART;TZID=America/Detroit:20250505T173000
DTEND;TZID=America/Detroit:20250523T213000
DTSTAMP:20260419T130510
CREATED:20250305T014023Z
LAST-MODIFIED:20250505T131614Z
UID:10000194-1746466200-1748035800@parrishacademy.org
SUMMARY:CNA Online Evening Class 0090
DESCRIPTION:This Certified Nursing Assistant online training course will prepare you for the state certification exam and to start a career in healthcare. This class is a three week online-evening hybrid course that consists of asynchronous online learning and in-person lab and clinical training during the evening. The course includes: Lectures\, digital content\, online learning\, lab training\, clinical training at a nursing care facility and state exam preparation. The price includes books & fees. \n\n					Online students: You are required to attend 8 in-person trainings\, which includes your first day of class. 6 in-person skills training meetings are held from 5:30pm – 9:30pm at the school. And 2 in-person clinical trainings from 3pm – 11pm at a healthcare facility in Oakland or Wayne County. You will receive your detailed schedule on your first day. Contact us if you have any questions.
URL:https://parrishacademy.org/calendar/cna-online-evening-class-0090/
LOCATION:Parrish Academy\, 24293 Telegraph Rd\, Suite 130\, Southfield\, MI\, 48033\, United States
CATEGORIES:Online Course
ATTACH;FMTTYPE=image/jpeg:https://parrishacademy.org/wp-content/uploads/2021/02/cna-training-06.jpg
END:VEVENT
END:VCALENDAR