BEGIN:VCALENDAR
VERSION:2.0
PRODID:-//Parrish Academy - ECPv6.13.1//NONSGML v1.0//EN
CALSCALE:GREGORIAN
METHOD:PUBLISH
X-ORIGINAL-URL:https://parrishacademy.org
X-WR-CALDESC:Events for Parrish Academy
REFRESH-INTERVAL;VALUE=DURATION:PT1H
X-Robots-Tag:noindex
X-PUBLISHED-TTL:PT1H
BEGIN:VTIMEZONE
TZID:America/Detroit
BEGIN:DAYLIGHT
TZOFFSETFROM:-0500
TZOFFSETTO:-0400
TZNAME:EDT
DTSTART:20240310T070000
END:DAYLIGHT
BEGIN:STANDARD
TZOFFSETFROM:-0400
TZOFFSETTO:-0500
TZNAME:EST
DTSTART:20241103T060000
END:STANDARD
END:VTIMEZONE
BEGIN:VEVENT
DTSTART;TZID=America/Detroit:20240923T090000
DTEND;TZID=America/Detroit:20241004T163000
DTSTAMP:20260421T050117
CREATED:20240613T220405Z
LAST-MODIFIED:20240621T205547Z
UID:10000176-1727082000-1728059400@parrishacademy.org
SUMMARY:CNA Training Class 0073
DESCRIPTION:This Certified Nursing Assistant training course will prepare you for the state certification exam and to start a career in healthcare. This class is a two week in-person course that meets Monday – Friday during business hours. The course content includes: Lectures\, classroom instruction\, online learning\, lab training\, clinical training at a nursing care facility and state exam preparation. The price includes books & fees.
URL:https://parrishacademy.org/calendar/cna-training-class-0073/
LOCATION:Parrish Academy\, 24293 Telegraph Rd\, Suite 130\, Southfield\, MI\, 48033\, United States
CATEGORIES:Course
ATTACH;FMTTYPE=image/jpeg:https://parrishacademy.org/wp-content/uploads/2021/02/cna-training-09.jpg
END:VEVENT
BEGIN:VEVENT
DTSTART;TZID=America/Detroit:20241007T090000
DTEND;TZID=America/Detroit:20241018T163000
DTSTAMP:20260421T050117
CREATED:20240613T222203Z
LAST-MODIFIED:20240621T205551Z
UID:10000177-1728291600-1729269000@parrishacademy.org
SUMMARY:CNA Training Class 0074
DESCRIPTION:This Certified Nursing Assistant training course will prepare you for the state certification exam and to start a career in healthcare. This class is a two week in-person course that meets Monday – Friday during business hours. The course content includes: Lectures\, classroom instruction\, online learning\, lab training\, clinical training at a nursing care facility and state exam preparation. The price includes books & fees.
URL:https://parrishacademy.org/calendar/cna-training-class-0074/
LOCATION:Parrish Academy\, 24293 Telegraph Rd\, Suite 130\, Southfield\, MI\, 48033\, United States
CATEGORIES:Course
ATTACH;FMTTYPE=image/jpeg:https://parrishacademy.org/wp-content/uploads/2021/02/cna-training-10.jpg
END:VEVENT
BEGIN:VEVENT
DTSTART;TZID=America/Detroit:20241014T173000
DTEND;TZID=America/Detroit:20241101T213000
DTSTAMP:20260421T050117
CREATED:20240613T222513Z
LAST-MODIFIED:20240621T205555Z
UID:10000178-1728927000-1730496600@parrishacademy.org
SUMMARY:CNA Online Evening Class 0075
DESCRIPTION:This Certified Nursing Assistant online training course will prepare you for the state certification exam and to start a career in healthcare. This class is a three week hybrid course that consists of asynchronous online learning and in-person lab and clinical training during the evening. The course includes: Lectures\, digital content\, online learning\, lab training\, clinical training at a nursing care facility and state exam preparation. The price includes books & fees. \n\n					Online students: You are required to attend class in-person on your first day and for all lab and clinical training. Your instructor will give you information about your entire schedule.
URL:https://parrishacademy.org/calendar/cna-online-evening-class-0075/
LOCATION:Parrish Academy\, 24293 Telegraph Rd\, Suite 130\, Southfield\, MI\, 48033\, United States
CATEGORIES:Online Course
ATTACH;FMTTYPE=image/jpeg:https://parrishacademy.org/wp-content/uploads/2021/02/cna-training-01.jpg
END:VEVENT
BEGIN:VEVENT
DTSTART;TZID=America/Detroit:20241021T090000
DTEND;TZID=America/Detroit:20241101T163000
DTSTAMP:20260421T050117
CREATED:20240613T222857Z
LAST-MODIFIED:20240621T205559Z
UID:10000179-1729501200-1730478600@parrishacademy.org
SUMMARY:CNA Training Class 0076
DESCRIPTION:This Certified Nursing Assistant training course will prepare you for the state certification exam and to start a career in healthcare. This class is a two week in-person course that meets Monday – Friday during business hours. The course content includes: Lectures\, classroom instruction\, online learning\, lab training\, clinical training at a nursing care facility and state exam preparation. The price includes books & fees.
URL:https://parrishacademy.org/calendar/cna-training-class-0076/
LOCATION:Parrish Academy\, 24293 Telegraph Rd\, Suite 130\, Southfield\, MI\, 48033\, United States
CATEGORIES:Course
ATTACH;FMTTYPE=image/jpeg:https://parrishacademy.org/wp-content/uploads/2021/02/cna-training-02.jpg
END:VEVENT
END:VCALENDAR