BEGIN:VCALENDAR
VERSION:2.0
PRODID:-//Parrish Academy - ECPv6.13.1//NONSGML v1.0//EN
CALSCALE:GREGORIAN
METHOD:PUBLISH
X-WR-CALNAME:Parrish Academy
X-ORIGINAL-URL:https://parrishacademy.org
X-WR-CALDESC:Events for Parrish Academy
REFRESH-INTERVAL;VALUE=DURATION:PT1H
X-Robots-Tag:noindex
X-PUBLISHED-TTL:PT1H
BEGIN:VTIMEZONE
TZID:America/Detroit
BEGIN:DAYLIGHT
TZOFFSETFROM:-0500
TZOFFSETTO:-0400
TZNAME:EDT
DTSTART:20240310T070000
END:DAYLIGHT
BEGIN:STANDARD
TZOFFSETFROM:-0400
TZOFFSETTO:-0500
TZNAME:EST
DTSTART:20241103T060000
END:STANDARD
END:VTIMEZONE
BEGIN:VEVENT
DTSTART;TZID=America/Detroit:20240826T090000
DTEND;TZID=America/Detroit:20240906T163000
DTSTAMP:20260419T161652
CREATED:20240613T215148Z
LAST-MODIFIED:20240621T205459Z
UID:10000173-1724662800-1725640200@parrishacademy.org
SUMMARY:CNA Training Class 0070
DESCRIPTION:This Certified Nursing Assistant training course will prepare you for the state certification exam and to start a career in healthcare. This class is a two week in-person course that meets Monday – Friday during business hours. The course content includes: Lectures\, classroom instruction\, online learning\, lab training\, clinical training at a nursing care facility and state exam preparation. The price includes books & fees. \n\n					Please Note: To observe Labor Day\, there is no class on 9/2/24. Your instructor may modify your schedule.
URL:https://parrishacademy.org/calendar/cna-training-class-0070/
LOCATION:Parrish Academy\, 24293 Telegraph Rd\, Suite 130\, Southfield\, MI\, 48033\, United States
CATEGORIES:Course
ATTACH;FMTTYPE=image/jpeg:https://parrishacademy.org/wp-content/uploads/2021/02/cna-training-06.jpg
END:VEVENT
BEGIN:VEVENT
DTSTART;TZID=America/Detroit:20240903T173000
DTEND;TZID=America/Detroit:20240920T213000
DTSTAMP:20260419T161652
CREATED:20240613T215548Z
LAST-MODIFIED:20240621T205535Z
UID:10000174-1725384600-1726867800@parrishacademy.org
SUMMARY:CNA Online Evening Class 0071
DESCRIPTION:This Certified Nursing Assistant online training course will prepare you for the state certification exam and to start a career in healthcare. This class is a three week hybrid course that consists of asynchronous online learning and in-person lab and clinical training during the evening. The course includes: Lectures\, digital content\, online learning\, lab training\, clinical training at a nursing care facility and state exam preparation. The price includes books & fees. \n\n					Online students: You are required to attend class in-person on your first day and for all lab and clinical training. Your instructor will give you information about your entire schedule.
URL:https://parrishacademy.org/calendar/cna-online-evening-class-0071/
LOCATION:Parrish Academy\, 24293 Telegraph Rd\, Suite 130\, Southfield\, MI\, 48033\, United States
CATEGORIES:Online Course
ATTACH;FMTTYPE=image/jpeg:https://parrishacademy.org/wp-content/uploads/2021/02/cna-training-07.jpg
END:VEVENT
BEGIN:VEVENT
DTSTART;TZID=America/Detroit:20240909T090000
DTEND;TZID=America/Detroit:20240920T163000
DTSTAMP:20260419T161652
CREATED:20240613T220110Z
LAST-MODIFIED:20240621T205542Z
UID:10000175-1725872400-1726849800@parrishacademy.org
SUMMARY:CNA Training Class 0072
DESCRIPTION:This Certified Nursing Assistant training course will prepare you for the state certification exam and to start a career in healthcare. This class is a two week in-person course that meets Monday – Friday during business hours. The course content includes: Lectures\, classroom instruction\, online learning\, lab training\, clinical training at a nursing care facility and state exam preparation. The price includes books & fees.
URL:https://parrishacademy.org/calendar/cna-training-class-0072/
LOCATION:Parrish Academy\, 24293 Telegraph Rd\, Suite 130\, Southfield\, MI\, 48033\, United States
CATEGORIES:Course
ATTACH;FMTTYPE=image/jpeg:https://parrishacademy.org/wp-content/uploads/2021/02/cna-training-08.jpg
END:VEVENT
BEGIN:VEVENT
DTSTART;TZID=America/Detroit:20240923T090000
DTEND;TZID=America/Detroit:20241004T163000
DTSTAMP:20260419T161652
CREATED:20240613T220405Z
LAST-MODIFIED:20240621T205547Z
UID:10000176-1727082000-1728059400@parrishacademy.org
SUMMARY:CNA Training Class 0073
DESCRIPTION:This Certified Nursing Assistant training course will prepare you for the state certification exam and to start a career in healthcare. This class is a two week in-person course that meets Monday – Friday during business hours. The course content includes: Lectures\, classroom instruction\, online learning\, lab training\, clinical training at a nursing care facility and state exam preparation. The price includes books & fees.
URL:https://parrishacademy.org/calendar/cna-training-class-0073/
LOCATION:Parrish Academy\, 24293 Telegraph Rd\, Suite 130\, Southfield\, MI\, 48033\, United States
CATEGORIES:Course
ATTACH;FMTTYPE=image/jpeg:https://parrishacademy.org/wp-content/uploads/2021/02/cna-training-09.jpg
END:VEVENT
END:VCALENDAR