BEGIN:VCALENDAR
VERSION:2.0
PRODID:-//Parrish Academy - ECPv6.13.1//NONSGML v1.0//EN
CALSCALE:GREGORIAN
METHOD:PUBLISH
X-ORIGINAL-URL:https://parrishacademy.org
X-WR-CALDESC:Events for Parrish Academy
REFRESH-INTERVAL;VALUE=DURATION:PT1H
X-Robots-Tag:noindex
X-PUBLISHED-TTL:PT1H
BEGIN:VTIMEZONE
TZID:America/Detroit
BEGIN:DAYLIGHT
TZOFFSETFROM:-0500
TZOFFSETTO:-0400
TZNAME:EDT
DTSTART:20240310T070000
END:DAYLIGHT
BEGIN:STANDARD
TZOFFSETFROM:-0400
TZOFFSETTO:-0500
TZNAME:EST
DTSTART:20241103T060000
END:STANDARD
END:VTIMEZONE
BEGIN:VEVENT
DTSTART;TZID=America/Detroit:20240722T090000
DTEND;TZID=America/Detroit:20240802T163000
DTSTAMP:20260421T061817
CREATED:20240613T214235Z
LAST-MODIFIED:20240621T205434Z
UID:10000171-1721638800-1722616200@parrishacademy.org
SUMMARY:CNA Training Class 0068
DESCRIPTION:This Certified Nursing Assistant training course will prepare you for the state certification exam and to start a career in healthcare. This class is a two week in-person course that meets Monday – Friday during business hours. The course content includes: Lectures\, classroom instruction\, online learning\, lab training\, clinical training at a nursing care facility and state exam preparation. The price includes books & fees.
URL:https://parrishacademy.org/calendar/cna-training-class-0068/
LOCATION:Parrish Academy\, 24293 Telegraph Rd\, Suite 130\, Southfield\, MI\, 48033\, United States
CATEGORIES:Course
ATTACH;FMTTYPE=image/jpeg:https://parrishacademy.org/wp-content/uploads/2021/02/cna-training-04.jpg
END:VEVENT
BEGIN:VEVENT
DTSTART;TZID=America/Detroit:20240805T090000
DTEND;TZID=America/Detroit:20240816T163000
DTSTAMP:20260421T061817
CREATED:20240613T214729Z
LAST-MODIFIED:20240621T205456Z
UID:10000172-1722848400-1723825800@parrishacademy.org
SUMMARY:CNA Training Class 0069
DESCRIPTION:This Certified Nursing Assistant training course will prepare you for the state certification exam and to start a career in healthcare. This class is a two week in-person course that meets Monday – Friday during business hours. The course content includes: Lectures\, classroom instruction\, online learning\, lab training\, clinical training at a nursing care facility and state exam preparation. The price includes books & fees.
URL:https://parrishacademy.org/calendar/cna-training-class-0069/
LOCATION:Parrish Academy\, 24293 Telegraph Rd\, Suite 130\, Southfield\, MI\, 48033\, United States
CATEGORIES:Course
ATTACH;FMTTYPE=image/jpeg:https://parrishacademy.org/wp-content/uploads/2021/02/cna-training-05.jpg
END:VEVENT
BEGIN:VEVENT
DTSTART;TZID=America/Detroit:20240826T090000
DTEND;TZID=America/Detroit:20240906T163000
DTSTAMP:20260421T061817
CREATED:20240613T215148Z
LAST-MODIFIED:20240621T205459Z
UID:10000173-1724662800-1725640200@parrishacademy.org
SUMMARY:CNA Training Class 0070
DESCRIPTION:This Certified Nursing Assistant training course will prepare you for the state certification exam and to start a career in healthcare. This class is a two week in-person course that meets Monday – Friday during business hours. The course content includes: Lectures\, classroom instruction\, online learning\, lab training\, clinical training at a nursing care facility and state exam preparation. The price includes books & fees. \n\n					Please Note: To observe Labor Day\, there is no class on 9/2/24. Your instructor may modify your schedule.
URL:https://parrishacademy.org/calendar/cna-training-class-0070/
LOCATION:Parrish Academy\, 24293 Telegraph Rd\, Suite 130\, Southfield\, MI\, 48033\, United States
CATEGORIES:Course
ATTACH;FMTTYPE=image/jpeg:https://parrishacademy.org/wp-content/uploads/2021/02/cna-training-06.jpg
END:VEVENT
END:VCALENDAR