BEGIN:VCALENDAR
VERSION:2.0
PRODID:-//Parrish Academy - ECPv6.13.1//NONSGML v1.0//EN
CALSCALE:GREGORIAN
METHOD:PUBLISH
X-ORIGINAL-URL:https://parrishacademy.org
X-WR-CALDESC:Events for Parrish Academy
REFRESH-INTERVAL;VALUE=DURATION:PT1H
X-Robots-Tag:noindex
X-PUBLISHED-TTL:PT1H
BEGIN:VTIMEZONE
TZID:America/Detroit
BEGIN:DAYLIGHT
TZOFFSETFROM:-0500
TZOFFSETTO:-0400
TZNAME:EDT
DTSTART:20240310T070000
END:DAYLIGHT
BEGIN:STANDARD
TZOFFSETFROM:-0400
TZOFFSETTO:-0500
TZNAME:EST
DTSTART:20241103T060000
END:STANDARD
END:VTIMEZONE
BEGIN:VEVENT
DTSTART;TZID=America/Detroit:20240401T090000
DTEND;TZID=America/Detroit:20240412T163000
DTSTAMP:20260421T123941
CREATED:20240103T164238Z
LAST-MODIFIED:20240515T223317Z
UID:10000161-1711962000-1712939400@parrishacademy.org
SUMMARY:CNA Training Class 237
DESCRIPTION:This Certified Nursing Assistant training course will prepare you for the State Certification Exam and to obtain a career in healthcare. This class is a two week course that meets Monday – Friday. Course includes: Classroom Instruction\, Online Virtual Learning\, Clinical Training\, Skills Training & Assessment\, Lab Training\, Training at Nursing Care Facility\, Job Placement Assistance & State Exam Preparation. Price includes books & fees.
URL:https://parrishacademy.org/calendar/cna-training-class-237/
LOCATION:Parrish Academy\, 24293 Telegraph Rd\, Suite 130\, Southfield\, MI\, 48033\, United States
CATEGORIES:Course
ATTACH;FMTTYPE=image/jpeg:https://parrishacademy.org/wp-content/uploads/2021/02/cna-training-03.jpg
END:VEVENT
BEGIN:VEVENT
DTSTART;TZID=America/Detroit:20240415T090000
DTEND;TZID=America/Detroit:20240426T163000
DTSTAMP:20260421T123941
CREATED:20240103T164441Z
LAST-MODIFIED:20240515T223311Z
UID:10000162-1713171600-1714149000@parrishacademy.org
SUMMARY:CNA Training Class 239
DESCRIPTION:This Certified Nursing Assistant training course will prepare you for the State Certification Exam and to obtain a career in healthcare. This class is a two week course that meets Monday – Friday. Course includes: Classroom Instruction\, Online Virtual Learning\, Clinical Training\, Skills Training & Assessment\, Lab Training\, Training at Nursing Care Facility\, Job Placement Assistance & State Exam Preparation. Price includes books & fees.
URL:https://parrishacademy.org/calendar/cna-training-class-239/
LOCATION:Parrish Academy\, 24293 Telegraph Rd\, Suite 130\, Southfield\, MI\, 48033\, United States
CATEGORIES:Course
ATTACH;FMTTYPE=image/jpeg:https://parrishacademy.org/wp-content/uploads/2021/02/cna-training-08.jpg
END:VEVENT
END:VCALENDAR